Package: derfinder Version: 1.40.0 Command: /Library/Frameworks/R.framework/Resources/bin/R CMD build --keep-empty-dirs --no-resave-data derfinder StartedAt: 2025-02-03 22:23:44 -0500 (Mon, 03 Feb 2025) EndedAt: 2025-02-03 22:29:11 -0500 (Mon, 03 Feb 2025) EllapsedTime: 327.0 seconds RetCode: 0 Status: OK PackageFile: derfinder_1.40.0.tar.gz PackageFileSize: 2.01 MiB