Package: derfinder Version: 1.40.0 Command: /Library/Frameworks/R.framework/Resources/bin/R CMD check --install=check:derfinder.install-out.txt --library=/Library/Frameworks/R.framework/Resources/library --no-vignettes --timings derfinder_1.40.0.tar.gz StartedAt: 2025-02-04 17:48:13 -0500 (Tue, 04 Feb 2025) EndedAt: 2025-02-04 17:59:30 -0500 (Tue, 04 Feb 2025) EllapsedTime: 677.0 seconds RetCode: 0 Status: OK CheckDir: derfinder.Rcheck Warnings: 0