Package: derfinder Version: 1.40.0 Command: /Library/Frameworks/R.framework/Resources/bin/R CMD INSTALL derfinder StartedAt: 2025-02-03 16:37:34 -0500 (Mon, 03 Feb 2025) EndedAt: 2025-02-03 16:38:27 -0500 (Mon, 03 Feb 2025) EllapsedTime: 53.2 seconds RetCode: 0 Status: OK