Package: derfinder Version: 1.40.0 Command: /Library/Frameworks/R.framework/Resources/bin/R CMD build --keep-empty-dirs --no-resave-data derfinder StartedAt: 2025-02-03 18:27:03 -0500 (Mon, 03 Feb 2025) EndedAt: 2025-02-03 18:39:44 -0500 (Mon, 03 Feb 2025) EllapsedTime: 760.3 seconds RetCode: 0 Status: OK PackageFile: derfinder_1.40.0.tar.gz PackageFileSize: 2.011 MiB