Package: derfinder Version: 1.40.0 Command: /Library/Frameworks/R.framework/Resources/bin/R CMD INSTALL derfinder StartedAt: 2025-02-03 16:03:06 -0500 (Mon, 03 Feb 2025) EndedAt: 2025-02-03 16:04:40 -0500 (Mon, 03 Feb 2025) EllapsedTime: 93.2 seconds RetCode: 0 Status: OK