Package: derfinderHelper Version: 1.40.0 Command: /Library/Frameworks/R.framework/Resources/bin/R CMD check --install=check:derfinderHelper.install-out.txt --library=/Library/Frameworks/R.framework/Resources/library --no-vignettes --timings derfinderHelper_1.40.0.tar.gz StartedAt: 2025-01-31 17:20:31 -0500 (Fri, 31 Jan 2025) EndedAt: 2025-01-31 17:21:52 -0500 (Fri, 31 Jan 2025) EllapsedTime: 81.0 seconds RetCode: 0 Status: OK CheckDir: derfinderHelper.Rcheck Warnings: 0