Package: derfinderHelper Version: 1.40.0 Command: /Library/Frameworks/R.framework/Resources/bin/R CMD build --keep-empty-dirs --no-resave-data derfinderHelper StartedAt: 2025-01-30 18:33:56 -0500 (Thu, 30 Jan 2025) EndedAt: 2025-01-30 18:34:38 -0500 (Thu, 30 Jan 2025) EllapsedTime: 42.1 seconds RetCode: 0 Status: OK PackageFile: derfinderHelper_1.40.0.tar.gz PackageFileSize: 309.6 KiB