Package: derfinderHelper Version: 1.40.0 Command: /Library/Frameworks/R.framework/Resources/bin/R CMD check --install=check:derfinderHelper.install-out.txt --library=/Library/Frameworks/R.framework/Resources/library --no-vignettes --timings derfinderHelper_1.40.0.tar.gz StartedAt: 2025-01-31 02:55:15 -0500 (Fri, 31 Jan 2025) EndedAt: 2025-01-31 02:58:20 -0500 (Fri, 31 Jan 2025) EllapsedTime: 185.7 seconds RetCode: 0 Status: OK CheckDir: derfinderHelper.Rcheck Warnings: 0