Package: derfinderHelper Version: 1.40.0 Command: /home/biocbuild/bbs-3.20-bioc/R/bin/R CMD check --install=check:derfinderHelper.install-out.txt --library=/home/biocbuild/bbs-3.20-bioc/R/site-library --timings derfinderHelper_1.40.0.tar.gz StartedAt: 2025-01-30 21:35:23 -0500 (Thu, 30 Jan 2025) EndedAt: 2025-01-30 21:36:44 -0500 (Thu, 30 Jan 2025) EllapsedTime: 81.1 seconds RetCode: 0 Status: OK CheckDir: derfinderHelper.Rcheck Warnings: 0