Package: derfinderHelper Version: 1.40.0 Command: /home/biocbuild/bbs-3.20-bioc/R/bin/R CMD INSTALL derfinderHelper StartedAt: 2025-01-30 15:08:15 -0500 (Thu, 30 Jan 2025) EndedAt: 2025-01-30 15:08:34 -0500 (Thu, 30 Jan 2025) EllapsedTime: 18.7 seconds RetCode: 0 Status: OK