Package: destiny Version: 3.20.0 Command: chmod a+r destiny -R && F:\biocbuild\bbs-3.20-bioc\R\bin\R.exe CMD build --keep-empty-dirs --no-resave-data destiny StartedAt: 2025-02-17 18:26:30 -0500 (Mon, 17 Feb 2025) EndedAt: 2025-02-17 18:35:32 -0500 (Mon, 17 Feb 2025) EllapsedTime: 542.4 seconds RetCode: 0 Status: OK PackageFile: destiny_3.20.0.tar.gz PackageFileSize: 602.5 <A href="http://en.wikipedia.org/wiki/KiB" target="_blank">KiB</A>