Package: destiny Version: 3.20.0 Command: /home/biocbuild/R/R/bin/R CMD build --keep-empty-dirs --no-resave-data destiny StartedAt: 2025-02-03 23:10:27 -0000 (Mon, 03 Feb 2025) EndedAt: 2025-02-03 23:18:50 -0000 (Mon, 03 Feb 2025) EllapsedTime: 502.2 seconds RetCode: 0 Status: OK PackageFile: destiny_3.20.0.tar.gz PackageFileSize: 656.9 KiB