Package: destiny Version: 3.20.0 Command: /home/biocbuild/R/R/bin/R CMD check --install=check:destiny.install-out.txt --library=/home/biocbuild/R/R/site-library --no-vignettes --timings destiny_3.20.0.tar.gz StartedAt: 2025-02-04 06:23:56 -0000 (Tue, 04 Feb 2025) EndedAt: 2025-02-04 06:29:04 -0000 (Tue, 04 Feb 2025) EllapsedTime: 308.3 seconds RetCode: 0 Status: WARNINGS CheckDir: destiny.Rcheck Warnings: 1