Package: diffGeneAnalysis Version: 1.88.0 Command: /Library/Frameworks/R.framework/Resources/bin/R CMD check --install=check:diffGeneAnalysis.install-out.txt --library=/Library/Frameworks/R.framework/Resources/library --no-vignettes --timings diffGeneAnalysis_1.88.0.tar.gz StartedAt: 2024-11-09 00:55:02 -0500 (Sat, 09 Nov 2024) EndedAt: 2024-11-09 00:58:54 -0500 (Sat, 09 Nov 2024) EllapsedTime: 232.3 seconds RetCode: 0 Status: OK CheckDir: diffGeneAnalysis.Rcheck Warnings: 0