Package: diffGeneAnalysis Version: 1.88.0 Command: /home/biocbuild/bbs-3.20-bioc/R/bin/R CMD check --install=check:diffGeneAnalysis.install-out.txt --library=/home/biocbuild/bbs-3.20-bioc/R/site-library --timings diffGeneAnalysis_1.88.0.tar.gz StartedAt: 2025-02-03 21:50:30 -0500 (Mon, 03 Feb 2025) EndedAt: 2025-02-03 21:50:47 -0500 (Mon, 03 Feb 2025) EllapsedTime: 17.0 seconds RetCode: 0 Status: OK CheckDir: diffGeneAnalysis.Rcheck Warnings: 0