Package: diffGeneAnalysis Version: 1.88.0 Command: rm -rf diffGeneAnalysis.buildbin-libdir && mkdir diffGeneAnalysis.buildbin-libdir && F:\biocbuild\bbs-3.20-bioc\R\bin\R.exe CMD INSTALL --build --library=diffGeneAnalysis.buildbin-libdir diffGeneAnalysis_1.88.0.tar.gz StartedAt: 2025-02-04 08:22:51 -0500 (Tue, 04 Feb 2025) EndedAt: 2025-02-04 08:23:01 -0500 (Tue, 04 Feb 2025) EllapsedTime: 9.9 seconds RetCode: 0 Status: OK PackageFile: diffGeneAnalysis_1.88.0.zip PackageFileSize: 196.8 KiB