Package: diffGeneAnalysis Version: 1.88.0 Command: /home/biocbuild/R/R/bin/R CMD check --install=check:diffGeneAnalysis.install-out.txt --library=/home/biocbuild/R/R/site-library --no-vignettes --timings diffGeneAnalysis_1.88.0.tar.gz StartedAt: 2025-02-04 06:26:06 -0000 (Tue, 04 Feb 2025) EndedAt: 2025-02-04 06:26:23 -0000 (Tue, 04 Feb 2025) EllapsedTime: 17.0 seconds RetCode: 0 Status: OK CheckDir: diffGeneAnalysis.Rcheck Warnings: 0