Package: diffGeneAnalysis Version: 1.88.0 Command: /home/biocbuild/R/R/bin/R CMD INSTALL diffGeneAnalysis StartedAt: 2025-02-03 20:24:15 -0000 (Mon, 03 Feb 2025) EndedAt: 2025-02-03 20:24:29 -0000 (Mon, 03 Feb 2025) EllapsedTime: 13.8 seconds RetCode: 0 Status: OK