Package: diffUTR Version: 1.14.0 Command: rm -rf diffUTR.buildbin-libdir && mkdir diffUTR.buildbin-libdir && /Users/biocbuild/BBS/utils/build-universal.sh diffUTR_1.14.0.tar.gz /Library/Frameworks/R.framework/Resources/bin/R diffUTR.buildbin-libdir StartedAt: 2025-02-05 15:36:44 -0500 (Wed, 05 Feb 2025) EndedAt: 2025-02-05 15:37:40 -0500 (Wed, 05 Feb 2025) EllapsedTime: 56.5 seconds RetCode: 0 Status: OK PackageFile: diffUTR_1.14.0.tgz PackageFileSize: 1.426 MiB