Package: diffUTR Version: 1.14.0 Command: /Library/Frameworks/R.framework/Resources/bin/R CMD build --keep-empty-dirs --no-resave-data diffUTR StartedAt: 2025-02-03 22:38:29 -0500 (Mon, 03 Feb 2025) EndedAt: 2025-02-03 22:40:02 -0500 (Mon, 03 Feb 2025) EllapsedTime: 93.1 seconds RetCode: 0 Status: OK PackageFile: diffUTR_1.14.0.tar.gz PackageFileSize: 1.381 MiB