Package: diffUTR Version: 1.14.0 Command: /Library/Frameworks/R.framework/Resources/bin/R CMD INSTALL diffUTR StartedAt: 2025-02-03 17:32:02 -0500 (Mon, 03 Feb 2025) EndedAt: 2025-02-03 17:32:55 -0500 (Mon, 03 Feb 2025) EllapsedTime: 52.7 seconds RetCode: 0 Status: OK