Package: diffUTR Version: 1.14.0 Command: /home/biocbuild/bbs-3.20-bioc/R/bin/R CMD check --install=check:diffUTR.install-out.txt --library=/home/biocbuild/bbs-3.20-bioc/R/site-library --timings diffUTR_1.14.0.tar.gz StartedAt: 2025-02-03 21:52:04 -0500 (Mon, 03 Feb 2025) EndedAt: 2025-02-03 21:57:33 -0500 (Mon, 03 Feb 2025) EllapsedTime: 328.3 seconds RetCode: 0 Status: OK CheckDir: diffUTR.Rcheck Warnings: 0