Package: diffUTR Version: 1.14.0 Command: /home/biocbuild/R/R/bin/R CMD build --keep-empty-dirs --no-resave-data diffUTR StartedAt: 2025-02-03 23:13:08 -0000 (Mon, 03 Feb 2025) EndedAt: 2025-02-03 23:14:43 -0000 (Mon, 03 Feb 2025) EllapsedTime: 94.0 seconds RetCode: 0 Status: OK PackageFile: diffUTR_1.14.0.tar.gz PackageFileSize: 1.145 MiB