Package: diffUTR Version: 1.14.0 Command: /home/biocbuild/R/R/bin/R CMD check --install=check:diffUTR.install-out.txt --library=/home/biocbuild/R/R/site-library --no-vignettes --timings diffUTR_1.14.0.tar.gz StartedAt: 2025-02-04 06:27:00 -0000 (Tue, 04 Feb 2025) EndedAt: 2025-02-04 06:33:19 -0000 (Tue, 04 Feb 2025) EllapsedTime: 378.5 seconds RetCode: 0 Status: OK CheckDir: diffUTR.Rcheck Warnings: 0