Package: diffUTR Version: 1.14.0 Command: /home/biocbuild/R/R/bin/R CMD INSTALL diffUTR StartedAt: 2025-02-03 21:11:58 -0000 (Mon, 03 Feb 2025) EndedAt: 2025-02-03 21:12:53 -0000 (Mon, 03 Feb 2025) EllapsedTime: 55.0 seconds RetCode: 0 Status: OK