Package: diffcyt Version: 1.26.0 Command: /Library/Frameworks/R.framework/Resources/bin/R CMD build --keep-empty-dirs --no-resave-data diffcyt StartedAt: 2025-02-03 22:34:17 -0500 (Mon, 03 Feb 2025) EndedAt: 2025-02-03 22:36:25 -0500 (Mon, 03 Feb 2025) EllapsedTime: 128.1 seconds RetCode: 0 Status: OK PackageFile: diffcyt_1.26.0.tar.gz PackageFileSize: 855.7 KiB