Package: diffcyt Version: 1.26.0 Command: /Library/Frameworks/R.framework/Resources/bin/R CMD check --install=check:diffcyt.install-out.txt --library=/Library/Frameworks/R.framework/Resources/library --no-vignettes --timings diffcyt_1.26.0.tar.gz StartedAt: 2024-11-09 00:54:21 -0500 (Sat, 09 Nov 2024) EndedAt: 2024-11-09 00:59:30 -0500 (Sat, 09 Nov 2024) EllapsedTime: 308.1 seconds RetCode: 0 Status: OK CheckDir: diffcyt.Rcheck Warnings: 0