Package: diffcyt Version: 1.26.0 Command: chmod a+r diffcyt -R && F:\biocbuild\bbs-3.20-bioc\R\bin\R.exe CMD build --keep-empty-dirs --no-resave-data diffcyt StartedAt: 2025-02-03 18:41:22 -0500 (Mon, 03 Feb 2025) EndedAt: 2025-02-03 18:43:35 -0500 (Mon, 03 Feb 2025) EllapsedTime: 133.7 seconds RetCode: 0 Status: OK PackageFile: diffcyt_1.26.0.tar.gz PackageFileSize: 671.9 KiB