Package: diggit
Version: 1.38.0
Command: /Library/Frameworks/R.framework/Resources/bin/R CMD build --keep-empty-dirs --no-resave-data diggit
StartedAt: 2025-02-17 22:45:46 -0500 (Mon, 17 Feb 2025)
EndedAt: 2025-02-17 22:48:37 -0500 (Mon, 17 Feb 2025)
EllapsedTime: 170.7 seconds
RetCode: 0
Status: OK
PackageFile: diggit_1.38.0.tar.gz
PackageFileSize: 348.7 <A href="http://en.wikipedia.org/wiki/KiB" target="_blank">KiB</A>