Package: diggit Version: 1.38.0 Command: /Library/Frameworks/R.framework/Resources/bin/R CMD check --install=check:diggit.install-out.txt --library=/Library/Frameworks/R.framework/Resources/library --no-vignettes --timings diggit_1.38.0.tar.gz StartedAt: 2025-02-04 18:09:17 -0500 (Tue, 04 Feb 2025) EndedAt: 2025-02-04 18:12:25 -0500 (Tue, 04 Feb 2025) EllapsedTime: 188.3 seconds RetCode: 0 Status: WARNINGS CheckDir: diggit.Rcheck Warnings: 3