Package: dinoR Version: 1.2.0 Command: /Library/Frameworks/R.framework/Resources/bin/R CMD INSTALL dinoR StartedAt: 2025-02-03 16:27:34 -0500 (Mon, 03 Feb 2025) EndedAt: 2025-02-03 16:28:05 -0500 (Mon, 03 Feb 2025) EllapsedTime: 30.9 seconds RetCode: 0 Status: OK