Package: dinoR
Version: 1.2.0
Command: rm -rf dinoR.buildbin-libdir && mkdir dinoR.buildbin-libdir && /Users/biocbuild/BBS/utils/build-universal.sh dinoR_1.2.0.tar.gz /Library/Frameworks/R.framework/Resources/bin/R dinoR.buildbin-libdir
StartedAt: 2025-02-18 12:03:17 -0500 (Tue, 18 Feb 2025)
EndedAt: 2025-02-18 12:04:14 -0500 (Tue, 18 Feb 2025)
EllapsedTime: 57.1 seconds
RetCode: 0
Status: OK
PackageFile: dinoR_1.2.0.tgz
PackageFileSize: 3.086 <A href="http://en.wikipedia.org/wiki/MiB" target="_blank">MiB</A>