Package: dinoR Version: 1.2.0 Command: /home/biocbuild/bbs-3.20-bioc/R/bin/R CMD check --install=check:dinoR.install-out.txt --library=/home/biocbuild/bbs-3.20-bioc/R/site-library --timings dinoR_1.2.0.tar.gz StartedAt: 2025-02-03 21:52:27 -0500 (Mon, 03 Feb 2025) EndedAt: 2025-02-03 21:56:39 -0500 (Mon, 03 Feb 2025) EllapsedTime: 251.2 seconds RetCode: 0 Status: OK CheckDir: dinoR.Rcheck Warnings: 0