Package: dinoR Version: 1.2.0 Command: /home/biocbuild/R/R/bin/R CMD INSTALL dinoR StartedAt: 2025-02-17 20:47:37 -0000 (Mon, 17 Feb 2025) EndedAt: 2025-02-17 20:48:09 -0000 (Mon, 17 Feb 2025) EllapsedTime: 31.7 seconds RetCode: 0 Status: OK