Package: dir.expiry Version: 1.14.0 Command: /Library/Frameworks/R.framework/Resources/bin/R CMD check --install=check:dir.expiry.install-out.txt --library=/Library/Frameworks/R.framework/Resources/library --no-vignettes --timings dir.expiry_1.14.0.tar.gz StartedAt: 2025-02-04 18:12:25 -0500 (Tue, 04 Feb 2025) EndedAt: 2025-02-04 18:12:48 -0500 (Tue, 04 Feb 2025) EllapsedTime: 22.8 seconds RetCode: 0 Status: OK CheckDir: dir.expiry.Rcheck Warnings: 0