Package: dir.expiry Version: 1.14.0 Command: /Library/Frameworks/R.framework/Resources/bin/R CMD INSTALL dir.expiry StartedAt: 2025-02-03 15:08:27 -0500 (Mon, 03 Feb 2025) EndedAt: 2025-02-03 15:08:35 -0500 (Mon, 03 Feb 2025) EllapsedTime: 7.8 seconds RetCode: 0 Status: OK