Package: dir.expiry
Version: 1.14.0
Command: /Library/Frameworks/R.framework/Resources/bin/R CMD INSTALL dir.expiry
StartedAt: 2024-11-08 15:12:15 -0500 (Fri, 08 Nov 2024)
EndedAt: 2024-11-08 15:12:17 -0500 (Fri, 08 Nov 2024)
EllapsedTime: 2.1 seconds
RetCode: 0
Status: OK