Package: dir.expiry Version: 1.14.0 Command: rm -rf dir.expiry.buildbin-libdir && mkdir dir.expiry.buildbin-libdir && /Users/biocbuild/BBS/utils/build-universal.sh dir.expiry_1.14.0.tar.gz /Library/Frameworks/R.framework/Resources/bin/R dir.expiry.buildbin-libdir StartedAt: 2025-02-04 12:50:28 -0500 (Tue, 04 Feb 2025) EndedAt: 2025-02-04 12:50:33 -0500 (Tue, 04 Feb 2025) EllapsedTime: 4.5 seconds RetCode: 0 Status: OK PackageFile: dir.expiry_1.14.0.tgz PackageFileSize: 314.1 KiB