Package: dir.expiry Version: 1.14.0 Command: /Library/Frameworks/R.framework/Resources/bin/R CMD build --keep-empty-dirs --no-resave-data dir.expiry StartedAt: 2025-02-03 18:34:01 -0500 (Mon, 03 Feb 2025) EndedAt: 2025-02-03 18:34:12 -0500 (Mon, 03 Feb 2025) EllapsedTime: 11.5 seconds RetCode: 0 Status: OK PackageFile: dir.expiry_1.14.0.tar.gz PackageFileSize: 301.1 KiB