Package: dir.expiry Version: 1.14.0 Command: /home/biocbuild/bbs-3.20-bioc/R/bin/R CMD check --install=check:dir.expiry.install-out.txt --library=/home/biocbuild/bbs-3.20-bioc/R/site-library --timings dir.expiry_1.14.0.tar.gz StartedAt: 2025-02-03 21:52:50 -0500 (Mon, 03 Feb 2025) EndedAt: 2025-02-03 21:53:08 -0500 (Mon, 03 Feb 2025) EllapsedTime: 17.0 seconds RetCode: 0 Status: OK CheckDir: dir.expiry.Rcheck Warnings: 0