Package: dir.expiry Version: 1.14.0 Command: /home/biocbuild/bbs-3.20-bioc/R/bin/R CMD INSTALL dir.expiry StartedAt: 2025-02-03 15:13:14 -0500 (Mon, 03 Feb 2025) EndedAt: 2025-02-03 15:13:24 -0500 (Mon, 03 Feb 2025) EllapsedTime: 9.7 seconds RetCode: 0 Status: OK