Package: discordant Version: 1.30.0 Command: /home/biocbuild/bbs-3.20-bioc/R/bin/R CMD check --install=check:discordant.install-out.txt --library=/home/biocbuild/bbs-3.20-bioc/R/site-library --timings discordant_1.30.0.tar.gz StartedAt: 2025-02-03 21:53:17 -0500 (Mon, 03 Feb 2025) EndedAt: 2025-02-03 21:54:23 -0500 (Mon, 03 Feb 2025) EllapsedTime: 66.1 seconds RetCode: 0 Status: OK CheckDir: discordant.Rcheck Warnings: 0