Package: discordant Version: 1.30.0 Command: chmod a+r discordant -R && F:\biocbuild\bbs-3.20-bioc\R\bin\R.exe CMD build --keep-empty-dirs --no-resave-data discordant StartedAt: 2025-02-03 18:43:21 -0500 (Mon, 03 Feb 2025) EndedAt: 2025-02-03 18:44:47 -0500 (Mon, 03 Feb 2025) EllapsedTime: 85.3 seconds RetCode: 0 Status: OK PackageFile: discordant_1.30.0.tar.gz PackageFileSize: 475.9 KiB