Package: distinct Version: 1.18.0 Command: F:\biocbuild\bbs-3.20-bioc\R\bin\R.exe CMD INSTALL distinct StartedAt: 2025-02-03 16:39:42 -0500 (Mon, 03 Feb 2025) EndedAt: 2025-02-03 16:41:01 -0500 (Mon, 03 Feb 2025) EllapsedTime: 79.6 seconds RetCode: 0 Status: OK