Package: dittoSeq Version: 1.18.0 Command: rm -rf dittoSeq.buildbin-libdir && mkdir dittoSeq.buildbin-libdir && /Users/biocbuild/BBS/utils/build-universal.sh dittoSeq_1.18.0.tar.gz /Library/Frameworks/R.framework/Resources/bin/R dittoSeq.buildbin-libdir StartedAt: 2025-02-05 15:37:46 -0500 (Wed, 05 Feb 2025) EndedAt: 2025-02-05 15:38:21 -0500 (Wed, 05 Feb 2025) EllapsedTime: 35.1 seconds RetCode: 0 Status: OK PackageFile: dittoSeq_1.18.0.tgz PackageFileSize: 2.816 MiB