Package: dittoSeq Version: 1.18.0 Command: /Library/Frameworks/R.framework/Resources/bin/R CMD build --keep-empty-dirs --no-resave-data dittoSeq StartedAt: 2025-02-03 22:41:37 -0500 (Mon, 03 Feb 2025) EndedAt: 2025-02-03 22:44:05 -0500 (Mon, 03 Feb 2025) EllapsedTime: 148.5 seconds RetCode: 0 Status: OK PackageFile: dittoSeq_1.18.0.tar.gz PackageFileSize: 3.307 MiB