############################################################################## ############################################################################## ### ### Running command: ### ### /Library/Frameworks/R.framework/Resources/bin/R CMD check --install=check:dittoSeq.install-out.txt --library=/Library/Frameworks/R.framework/Resources/library --no-vignettes --timings dittoSeq_1.18.0.tar.gz ### ############################################################################## ############################################################################## * using log directory ‘/Users/biocbuild/bbs-3.20-bioc/meat/dittoSeq.Rcheck’ * using R version 4.4.2 (2024-10-31) * using platform: x86_64-apple-darwin20 * R was compiled by Apple clang version 14.0.0 (clang-1400.0.29.202) GNU Fortran (GCC) 12.2.0 * running under: macOS Monterey 12.7.6 * using session charset: UTF-8 * using option ‘--no-vignettes’ * checking for file ‘dittoSeq/DESCRIPTION’ ... OK * checking extension type ... Package * this is package ‘dittoSeq’ version ‘1.18.0’ * package encoding: UTF-8 * checking package namespace information ... OK * checking package dependencies ... OK * checking if this is a source package ... OK * checking if there is a namespace ... OK * checking for hidden files and directories ... OK * checking for portable file names ... OK * checking for sufficient/correct file permissions ... OK * checking whether package ‘dittoSeq’ can be installed ... OK * checking installed package size ... OK * checking package directory ... OK * checking ‘build’ directory ... OK * checking DESCRIPTION meta-information ... NOTE License stub is invalid DCF. * checking top-level files ... OK * checking for left-over files ... OK * checking index information ... OK * checking package subdirectories ... OK * checking code files for non-ASCII characters ... OK * checking R files for syntax errors ... OK * checking whether the package can be loaded ... OK * checking whether the package can be loaded with stated dependencies ... OK * checking whether the package can be unloaded cleanly ... OK * checking whether the namespace can be loaded with stated dependencies ... OK * checking whether the namespace can be unloaded cleanly ... OK * checking dependencies in R code ... OK * checking S3 generic/method consistency ... OK * checking replacement functions ... OK * checking foreign function calls ... OK * checking R code for possible problems ... OK * checking Rd files ... NOTE checkRd: (-1) Darken.Rd:10: Lost braces 10 | \item{colors}{the color(s) input. Can be a list of colors, for example, /code{dittoColors()}.} | ^ checkRd: (-1) Lighten.Rd:10: Lost braces 10 | \item{colors}{the color(s) input. Can be a list of colors, for example, /code{dittoColors()}.} | ^ * checking Rd metadata ... OK * checking Rd cross-references ... OK * checking for missing documentation entries ... OK * checking for code/documentation mismatches ... OK * checking Rd \usage sections ... OK * checking Rd contents ... OK * checking for unstated dependencies in examples ... OK * checking contents of ‘data’ directory ... OK * checking data for non-ASCII characters ... OK * checking LazyData ... OK * checking data for ASCII and uncompressed saves ... OK * checking files in ‘vignettes’ ... OK * checking examples ... OK Examples with CPU (user + system) or elapsed time > 5s user system elapsed dittoPlot 20.821 0.236 24.171 dittoHex 17.045 0.207 20.563 multi_dittoDimPlotVaryCells 14.002 0.140 16.492 dittoFreqPlot 13.636 0.150 15.748 dittoDimPlot 12.985 0.237 14.763 dittoScatterPlot 12.298 0.128 14.094 multi_dittoPlot 11.893 0.393 14.495 dittoDotPlot 11.382 0.167 13.236 gene 7.759 0.341 9.160 dittoHeatmap 6.474 0.196 7.810 dittoPlotVarsAcrossGroups 6.114 0.149 7.157 multi_dittoDimPlot 5.842 0.078 6.667 dittoBarPlot 5.027 0.189 5.826 * checking for unstated dependencies in ‘tests’ ... OK * checking tests ... Running ‘testthat.R’ OK * checking for unstated dependencies in vignettes ... OK * checking package vignettes ... OK * checking running R code from vignettes ... SKIPPED * checking re-building of vignette outputs ... SKIPPED * checking PDF version of manual ... OK * DONE Status: 2 NOTEs See ‘/Users/biocbuild/bbs-3.20-bioc/meat/dittoSeq.Rcheck/00check.log’ for details.