Package: dittoSeq Version: 1.18.0 Command: rm -rf dittoSeq.buildbin-libdir && mkdir dittoSeq.buildbin-libdir && F:\biocbuild\bbs-3.20-bioc\R\bin\R.exe CMD INSTALL --build --library=dittoSeq.buildbin-libdir dittoSeq_1.18.0.tar.gz StartedAt: 2025-02-04 08:23:27 -0500 (Tue, 04 Feb 2025) EndedAt: 2025-02-04 08:24:19 -0500 (Tue, 04 Feb 2025) EllapsedTime: 52.4 seconds RetCode: 0 Status: OK PackageFile: dittoSeq_1.18.0.zip PackageFileSize: 2.028 MiB