Package: dittoSeq Version: 1.18.0 Command: chmod a+r dittoSeq -R && F:\biocbuild\bbs-3.20-bioc\R\bin\R.exe CMD build --keep-empty-dirs --no-resave-data dittoSeq StartedAt: 2025-02-03 18:43:36 -0500 (Mon, 03 Feb 2025) EndedAt: 2025-02-03 18:46:29 -0500 (Mon, 03 Feb 2025) EllapsedTime: 172.5 seconds RetCode: 0 Status: OK PackageFile: dittoSeq_1.18.0.tar.gz PackageFileSize: 2.501 MiB