Package: dittoSeq Version: 1.18.0 Command: F:\biocbuild\bbs-3.20-bioc\R\bin\R.exe CMD INSTALL dittoSeq StartedAt: 2025-02-03 16:31:25 -0500 (Mon, 03 Feb 2025) EndedAt: 2025-02-03 16:32:11 -0500 (Mon, 03 Feb 2025) EllapsedTime: 46.2 seconds RetCode: 0 Status: OK